BEGIN:VCALENDAR
VERSION:2.0
PRODID:-//Bob&#039;s Team - ECPv6.15.20//NONSGML v1.0//EN
CALSCALE:GREGORIAN
METHOD:PUBLISH
X-WR-CALNAME:Bob&#039;s Team
X-ORIGINAL-URL:https://bobs-team.org
X-WR-CALDESC:Events for Bob&#039;s Team
REFRESH-INTERVAL;VALUE=DURATION:PT1H
X-Robots-Tag:noindex
X-PUBLISHED-TTL:PT1H
BEGIN:VTIMEZONE
TZID:America/Los_Angeles
BEGIN:DAYLIGHT
TZOFFSETFROM:-0800
TZOFFSETTO:-0700
TZNAME:PDT
DTSTART:20200308T100000
END:DAYLIGHT
BEGIN:STANDARD
TZOFFSETFROM:-0700
TZOFFSETTO:-0800
TZNAME:PST
DTSTART:20201101T090000
END:STANDARD
BEGIN:DAYLIGHT
TZOFFSETFROM:-0800
TZOFFSETTO:-0700
TZNAME:PDT
DTSTART:20210314T100000
END:DAYLIGHT
BEGIN:STANDARD
TZOFFSETFROM:-0700
TZOFFSETTO:-0800
TZNAME:PST
DTSTART:20211107T090000
END:STANDARD
BEGIN:DAYLIGHT
TZOFFSETFROM:-0800
TZOFFSETTO:-0700
TZNAME:PDT
DTSTART:20220313T100000
END:DAYLIGHT
BEGIN:STANDARD
TZOFFSETFROM:-0700
TZOFFSETTO:-0800
TZNAME:PST
DTSTART:20221106T090000
END:STANDARD
END:VTIMEZONE
BEGIN:VTIMEZONE
TZID:UTC
BEGIN:STANDARD
TZOFFSETFROM:+0000
TZOFFSETTO:+0000
TZNAME:UTC
DTSTART:20170101T000000
END:STANDARD
END:VTIMEZONE
BEGIN:VEVENT
DTSTART;TZID=America/Los_Angeles:20210628T080000
DTEND;TZID=America/Los_Angeles:20210628T170000
DTSTAMP:20260425T121036
CREATED:20210401T232137Z
LAST-MODIFIED:20210401T232137Z
UID:12992-1624867200-1624899600@bobs-team.org
SUMMARY:First Day of Junior Guards
DESCRIPTION:PROGRAM SCHEDULE:    Monday through Friday\, June 28th through August 18\, 2021.\nMorning Session     8:30 AM to 12:00 Noon\nAfternoon Session   1:00 PM to 4:30 PM \n  \n​REQUIREMENTS:    Open to boys and girls ages 9 through 17 (as of July 1\, 2021).  Applicants must possess a basic swimming ability to be able to pass the following prerequisite exams:
URL:https://bobs-team.org/event/first-day-of-junior-guards/
LOCATION:HB City Lifeguard Headquarters\, 103 Pacific Coast Highway\, Huntington Beach\, CA\, 92646\, United States
END:VEVENT
BEGIN:VEVENT
DTSTART;TZID=UTC:20180816T180000
DTEND;TZID=UTC:20180816T210000
DTSTAMP:20260425T121036
CREATED:20180711T065951Z
LAST-MODIFIED:20180711T065951Z
UID:25-1534442400-1534453200@bobs-team.org
SUMMARY:2018 Huntington Beach City Jr Lifeguard Graduation
DESCRIPTION:Join us as we announce the winner of the 2nd Annual Bob Sanborn Memorial Scholarship!
URL:https://bobs-team.org/event/2018-huntington-beach-city-jr-lifeguard-graduation/
LOCATION:Edison High School\, 21400 Magnolia Street\, Huntington Beach\, CA\, 92646\, United States
END:VEVENT
END:VCALENDAR